BEGIN:VCALENDAR
VERSION:2.0
PRODID:-//wp-events-plugin.com//7.2.3.1//EN
BEGIN:VEVENT
UID:50@swtk.se
DTSTART;TZID=Europe/Stockholm:20260510T094500
DTEND;TZID=Europe/Stockholm:20260510T160000
DTSTAMP:20260414T103428Z
URL:https://swtk.se/events/wheatentraff-och-aktivitetsdag-timra/
SUMMARY:Wheatenträff och aktivitetsdag\, Timrå
DESCRIPTION:Välkomna till en härlig aktivitetsdag tillsammans med våra 
 älskade Wheatenterrier! Under dagen får vi ta del av Maria Granbergs ku
 nskap och erfarenhet som beteendeutredare och hur vi kan förstå\, stött
 a och hjälpa våra hundar i vardagen. Teorigenomgång efterföljs av en p
 raktiskt del där deltagare med hund får prova olika övningar där Maria
  guidar bland annat i beröringsterapi\, enkla massageövningar och doga (
  en sorts yoga för hund). Läs Marias beskrivning här!\n\nTid och plats:
 \n\nNär: Söndag 10 Maj\nTid: 9:45 – ca 16:00\nPlats: Timrå Brukshundk
 lubb \, Grönuddsvägen 2 \, 861 41 \, Sörberge\n\nDeltagaravgift:\n\n 	3
 50 kr – 1 hund + förare\n\n\n 	150 kr – deltagare utan hund\n\nFika:\
 nI avgiften ingår för- och eftermiddags fika.\n\nLunch medtas själv om 
 så önskas. Fullt rustat kök finns. Begränsat antal platser med hund.\n
 \nAnmälan senast 17/4 till :\nEva Eriksson\; telefonnummer 070-57 35 477
  eller via formulär nedan.\n\nSista betalningsdag: 3/5\n\nMer informatio
 n skickas till alla anmälda deltagare.\n\nVarmt välkommen med din anmäl
 an – vi ses!\n\n[contact-form to="eva55.eriksson@outlook.com " subject="
 Anmälan wheatenträff Timrå"][contact-field label="Namn" type="name" req
 uired="1"][contact-field label="E-post" type="email" required="1"][contact
 -field label="Meddelande" type="textarea"][/contact-form]
ATTACH;FMTTYPE=image/jpeg:https://swtk.se/wp-content/uploads/2026/04/Doga3
 .jpg
CATEGORIES:Region Nord
END:VEVENT
BEGIN:VTIMEZONE
TZID:Europe/Stockholm
X-LIC-LOCATION:Europe/Stockholm
BEGIN:DAYLIGHT
DTSTART:20260329T030000
TZOFFSETFROM:+0100
TZOFFSETTO:+0200
TZNAME:CEST
END:DAYLIGHT
END:VTIMEZONE
END:VCALENDAR