BEGIN:VCALENDAR
VERSION:2.0
PRODID:-//wp-events-plugin.com//7.2.3.1//EN
BEGIN:VEVENT
UID:56@swtk.se
DTSTART;TZID=Europe/Stockholm:20260704T100000
DTEND;TZID=Europe/Stockholm:20260704T120000
DTSTAMP:20260418T123127Z
URL:https://swtk.se/events/wheatenpromenad-och-fika-skulptur-i-pilane-klov
 edal-tjorn/
SUMMARY:Wheatenpromenad och fika "Skulptur i Pilane"\, Klövedal Tjörn
DESCRIPTION:\n\n\nBeskrivning av aktiviteten\n\n\nSamling vid entreen till 
 Pilane\, Tjörn kl 10\, deltagare tar med fika/matsäck och betalar sin eg
 en entre/parkering.\nLänk till Hemsidan "Skulptur i Pilane" (https://pila
 ne.org/) för info om kostnad och vad som gäller allmänt på området\, 
 hundar ska hållas kopplade med mera.\n\n\n\nSamlingsplats\n\n\nEntreen ti
 ll Pilane skulptur park\, Tjörn\n\n\nAdress\n\n\nPilane Gravfält\, Häll
 enevägen\nKlövedal\, Tjörn\n471 92\nSE\n\n\nKostnad:\n\n\nDeltagare bet
 alar egen entre och parkering\n\n\nFika:\n\n\nTa med egen fika\n\n\nKontak
 tperson\n\n\nAnn-Margret Pehrsson\n\n\nTelefon till kontaktperson:\n\n\n07
 03654470\n\n\nAnmälan senast:\n\n\n2026/07/01\n\n\nAnmälan till:\n\n[con
 tact-form to="swtkvast@outlook.com\, 	amp661@hotmail.com" subject="Anmäla
 n promenad och fika\, Pilane Tjörn"][contact-field label="Namn" type="nam
 e" required="1"][contact-field label="E-post" type="email" required="1"][c
 ontact-field label="Meddelande" type="textarea"][/contact-form]\n\n\n\n\n\
 n\n
ATTACH;FMTTYPE=image/jpeg:https://swtk.se/wp-content/uploads/2026/04/Pilan
 e_Screenshot-2026-04-17-172620-bd22b92fe1a1f98d45bac79356d59955.png
CATEGORIES:Region Väst
LOCATION:Klövedal Tjörn\, Pilane Gravfält\, Hällenevägen\, Klövedal\,
  Tjörn\, 471 92\, Sverige
X-APPLE-STRUCTURED-LOCATION;VALUE=URI;X-ADDRESS=Pilane Gravfält\, Hällene
 vägen\, Klövedal\, Tjörn\, 471 92\, Sverige;X-APPLE-RADIUS=100;X-TITLE=
 Klövedal Tjörn:geo:0,0
END:VEVENT
BEGIN:VTIMEZONE
TZID:Europe/Stockholm
X-LIC-LOCATION:Europe/Stockholm
BEGIN:DAYLIGHT
DTSTART:20260329T030000
TZOFFSETFROM:+0100
TZOFFSETTO:+0200
TZNAME:CEST
END:DAYLIGHT
END:VTIMEZONE
END:VCALENDAR