BEGIN:VCALENDAR
VERSION:2.0
PRODID:-//wp-events-plugin.com//7.2.3.1//EN
BEGIN:VEVENT
UID:23@swtk.se
DTSTART;TZID=Europe/Stockholm:20260822T100000
DTEND;TZID=Europe/Stockholm:20260822T170000
DTSTAMP:20260330T131723Z
URL:https://swtk.se/events/wheatenfestivalen-sodertalje/
SUMMARY:Wheatenfestivalen \, Södertälje
DESCRIPTION:Officiell rasspecialutställning i Bastmora utanför Södertäl
 je\n\nKlasser:\nBaby 4-6 mån\nValp 6-9 mån\nJunior\nUnghund\nÖppen\nCha
 mpion\nVeteran\n"Skojklasser" - anmäls på plats\n\nEn heldag med utstäl
 lning\, lotterier och skojklasser!\n\nFörsta start: kl. 10.00\n\nLäs mer
  om Wheatenfestivalen här: WHEATENFESTIVALEN 2026
ATTACH;FMTTYPE=image/jpeg:https://swtk.se/wp-content/uploads/2023/03/ost.p
 ng
CATEGORIES:Region Öst
END:VEVENT
BEGIN:VTIMEZONE
TZID:Europe/Stockholm
X-LIC-LOCATION:Europe/Stockholm
BEGIN:DAYLIGHT
DTSTART:20260329T030000
TZOFFSETFROM:+0100
TZOFFSETTO:+0200
TZNAME:CEST
END:DAYLIGHT
END:VTIMEZONE
END:VCALENDAR