BEGIN:VCALENDAR
VERSION:2.0
PRODID:-//wp-events-plugin.com//7.2.3.1//EN
BEGIN:VEVENT
UID:48@swtk.se
DTSTART;TZID=Europe/Stockholm:20260524T110000
DTEND;TZID=Europe/Stockholm:20260524T160000
DTSTAMP:20260324T125144Z
URL:https://swtk.se/events/viltspar-i-skrylle-lund/
SUMMARY:Viltspår i Skrylle\, Lund
DESCRIPTION:\n\n\n\n\n\n\nBeskrivning av aktiviteten\n\n\n24/5 Viltspår\, 
 Skrylle\n\nViltspår i Skrylle under ledning av Julia Månsson 4-tassars-H
 älsocenter.\n\n4 stycken per grupp-2 grupper kan ev bli 5 per grupp. Exak
 t plats meddelas via mail till er när vi närmar oss datumet för aktivit
 eten.\n\nGrupp 1: kl 11.00-13.00.\n\nPaus 13-14\n\nGrupp 2: 14.00-16.00\n\
 n\nInstruktör\n\n\nJulia Månsson\, 4-tassars hälsocenter\n\n\nDatum/tid
 \n\n\n2026/05/24 11:00\n\n\nSamlingsplats\n\n\nExakt plats informeras om i
  god tid innan aktiviteten\n\n\nAdress\n\n\nSkrylle Naturreservat\nSkrylle
 \, Skåne\nSkrylle\, Lund\nSE\n\n\nKostnad:\n\n\n300.-/Hund SWISH till SWT
 K syd 123 176 35 98\n\n\nFika:\n\n\nTa med egen fika\n\n\nKontaktperson\n\
 n\nKarin Ganslandt\n\n\nTelefon/E-post till kontaktperson:\n\n\n+46 703 36
 4 82 83\, karin.ganslandt@gmail.com\n\n\n&nbsp\;\n\nAnmälan senast:\n\n\n
 2026/05/18\n\n\nAnmälan till aktiviteten:\n\n[contact-form to="karin.gans
 landt@gmail.com" subject="Anmälan Viltspår Skrylle"][contact-field label
 ="Namn" type="name" required="1"][contact-field label="E-post" type="email
 " required="1"][contact-field label="Meddelande" type="textarea"][/contact
 -form]\n\n\n\n\n\n\n\n\n\n\n\n\n\n\n\n\n\n\n\n\n\n
ATTACH;FMTTYPE=image/jpeg:https://swtk.se/wp-content/uploads/2026/03/Vilts
 par-Skrylle.jpeg
CATEGORIES:Region Syd
END:VEVENT
BEGIN:VTIMEZONE
TZID:Europe/Stockholm
X-LIC-LOCATION:Europe/Stockholm
BEGIN:DAYLIGHT
DTSTART:20260329T030000
TZOFFSETFROM:+0100
TZOFFSETTO:+0200
TZNAME:CEST
END:DAYLIGHT
END:VTIMEZONE
END:VCALENDAR