BEGIN:VCALENDAR
VERSION:2.0
PRODID:-//wp-events-plugin.com//7.2.3.1//EN
BEGIN:VEVENT
UID:45@swtk.se
DTSTART;TZID=Europe/Stockholm:20260503T110000
DTEND;TZID=Europe/Stockholm:20260503T130000
DTSTAMP:20260324T124005Z
URL:https://swtk.se/events/varpromenad-kjugekull-fjalkinge/
SUMMARY:Vårpromenad\, Kjugekull\, Fjälkinge.
DESCRIPTION:Vårpromenad under ledning av Ann Sjöberg.\nSamling klockan 11
 .00 vid P-platsen. Det grillas korv till självkostnadspris\, 30:-/korv\, 
 medtag egen dricka\, det bjuds på kaffe. SWISH till SWTK syd: 123 176 35 
 98 Märk SWISH Kjugekull\nAnsvarig kontaktperson: Ann Sjöberg (annpsjober
 g@gmail.com)\n\nAnmälan senast 30/4 till:\n\n[contact-form to="annpsjober
 g@gmail.com" subject="Anmälan Vårpromenad Kjugekull"][contact-field labe
 l="Namn" type="name" required="1"][contact-field label="E-post" type="emai
 l" required="1"][contact-field label="Meddelande" type="textarea"][/contac
 t-form]
ATTACH;FMTTYPE=image/jpeg:https://swtk.se/wp-content/uploads/2026/03/Lufse
 n-var-1.jpg
CATEGORIES:Region Syd
END:VEVENT
BEGIN:VTIMEZONE
TZID:Europe/Stockholm
X-LIC-LOCATION:Europe/Stockholm
BEGIN:DAYLIGHT
DTSTART:20260329T030000
TZOFFSETFROM:+0100
TZOFFSETTO:+0200
TZNAME:CEST
END:DAYLIGHT
END:VTIMEZONE
END:VCALENDAR