BEGIN:VCALENDAR
VERSION:2.0
PRODID:-//wp-events-plugin.com//7.2.3.1//EN
BEGIN:VEVENT
UID:44@swtk.se
DTSTART;TZID=Europe/Stockholm:20260510T100000
DTEND;TZID=Europe/Stockholm:20260510T113000
DTSTAMP:20260401T151811Z
URL:https://swtk.se/events/varpromenad-i-karlskrona/
SUMMARY:Vårpromenad i Karlskrona
DESCRIPTION:Vårpromenad under ledning av Anette och Peter Brantmark Samt A
 nette Ringdahl.\n\nSamling:\nVi samlas kl. 10. vid Auroraparken i Karlskro
 na och promenerar sedan runt Stumholmen.\nDet blir hundaktiviteter och his
 toriska nedslag i världsarvsstaden Karlskrona under promenaden Promenaden
  beräknas ta ca 1½ timme.\n\nFika:\nMedtag gärna egen fika som kan inta
 gas i slutet av promenaden vid Marinmuseet\n\nFrågor eller funderingar ti
 ll mejla till: Anette Brantmark.\n\nAnmälan senast 8/5 via formulär:\n\n
 [contact-form to="Anette.ringdahl65@gmail.com" subject="Anmälan vårprome
 nad i Karlskrona"][contact-field label="Namn" type="name" required="1"][co
 ntact-field label="E-post" type="email" required="1"][contact-field label=
 "Meddelande" type="textarea"][/contact-form]\n\n&nbsp\;\n\n&nbsp\;
ATTACH;FMTTYPE=image/jpeg:https://swtk.se/wp-content/uploads/2023/10/38278
 9951_3649467905285521_6560898775402069407_n.jpg
CATEGORIES:Region Syd
END:VEVENT
BEGIN:VTIMEZONE
TZID:Europe/Stockholm
X-LIC-LOCATION:Europe/Stockholm
BEGIN:DAYLIGHT
DTSTART:20260329T030000
TZOFFSETFROM:+0100
TZOFFSETTO:+0200
TZNAME:CEST
END:DAYLIGHT
END:VTIMEZONE
END:VCALENDAR