BEGIN:VCALENDAR
VERSION:2.0
PRODID:-//wp-events-plugin.com//7.2.3.1//EN
BEGIN:VEVENT
UID:43@swtk.se
DTSTART;TZID=Europe/Stockholm:20260607T110000
DTEND;TZID=Europe/Stockholm:20260607T110000
DTSTAMP:20260324T123618Z
URL:https://swtk.se/events/varpromenad-i-falsterbo/
SUMMARY:Vårpromenad i Falsterbo
DESCRIPTION:Vårpromenad under ledning av Karin Ganslandt nere i Falsterbo.
  Obs nytt datum!\n\nSamling vid Skoltorget\, Falsterbo klockan 11.00.\n\nT
 raditionsenlig kaffe\, ”lyxfralla” och Björns kaka finns till självk
 ostnadspris 30:-\n\nSWISH till SWTK syd: 123 176 35 98 Märk SWISH Falster
 bo\n\nAnsvarig kontaktperson: Karin Ganslandt (karin.ganslandt@gmail.com)
 \n\nAnmälan senast 20/5 till:\n\n[contact-form to="karin.ganslandt@gmail.
 com" subject="Anmälan vårpromenad i Falsterbo"][contact-field label="Nam
 n" type="name" required="1"][contact-field label="E-post" type="email" req
 uired="1"][contact-field label="Meddelande" type="textarea"][/contact-form
 ]
ATTACH;FMTTYPE=image/jpeg:https://swtk.se/wp-content/uploads/2023/08/thumb
 nail_IMG_9201.jpg
CATEGORIES:Region Syd
END:VEVENT
BEGIN:VTIMEZONE
TZID:Europe/Stockholm
X-LIC-LOCATION:Europe/Stockholm
BEGIN:DAYLIGHT
DTSTART:20260329T030000
TZOFFSETFROM:+0100
TZOFFSETTO:+0200
TZNAME:CEST
END:DAYLIGHT
END:VTIMEZONE
END:VCALENDAR