BEGIN:VCALENDAR
VERSION:2.0
PRODID:-//wp-events-plugin.com//7.2.3.1//EN
BEGIN:VEVENT
UID:32@swtk.se
DTSTART;TZID=Europe/Stockholm:20260314T113000
DTEND;TZID=Europe/Stockholm:20260314T123000
DTSTAMP:20260228T133742Z
URL:https://swtk.se/events/st-patricks-day-firande-i-malmo/
SUMMARY:St Patrick's Day-firande i Malmö
DESCRIPTION:Program 14 mars Malmö\n10:30: St. Patrick's Day evenemanget st
 artar\nFolk med irländska kontakter från hela Skåne samlas och minglar 
 i Magistratsparken mellan Malmö Opera och Triangeln. Parkering finns bako
 m Malmö Opera samt parkeringsgarage under Triangeln. Ni som eventuellt v
 äljer att åka tåg är det hållplats Triangeln som är bäst och enklas
 t.\n\nVarmt välkomna att delta\, gärna i irländska färger. Kaffe och j
 uice serveras och för barnen finns ballonger och ansiktsmålning medan Gr
 iffin Pipes and Drums skapar den musikaliska kulissen.\n\nCa 11:30: Vi sam
 las vid fontänen (https://maps.app.goo.gl/hjEY43W86wpFUvwr7) vid Triangel
 torget utanför Scandic Triangeln för den årliga paraden till den Irlän
 dska puben Fagans i närheten av Gustaf Adolfs Torg (Per Weijersgatan 4).\
 n\nArrangören har till sina medlemmar i Skåne uttryckt sin glädje att v
 i SWTK Syd förenar oss med dem i St. Patrick's -firandet.
ATTACH;FMTTYPE=image/jpeg:https://swtk.se/wp-content/uploads/2025/12/St-Pa
 trick.png
CATEGORIES:Region Syd
END:VEVENT
BEGIN:VTIMEZONE
TZID:Europe/Stockholm
X-LIC-LOCATION:Europe/Stockholm
BEGIN:STANDARD
DTSTART:20251026T020000
TZOFFSETFROM:+0200
TZOFFSETTO:+0100
TZNAME:CET
END:STANDARD
END:VTIMEZONE
END:VCALENDAR