BEGIN:VCALENDAR
VERSION:2.0
PRODID:-//wp-events-plugin.com//7.2.3.1//EN
BEGIN:VEVENT
UID:41@swtk.se
DTSTART;TZID=Europe/Stockholm:20260719T110000
DTEND;TZID=Europe/Stockholm:20260719T150000
DTSTAMP:20260324T124141Z
URL:https://swtk.se/events/prova-pa-dag-hanaskog-narheten-av-kristianstad/
SUMMARY:Prova-På-dag Hanaskog\, närheten av Kristianstad
DESCRIPTION:Region Syd bjuder in alla Wheatenhundar\, som vill prova på ny
 a skojiga aktiviteter\, till en Prova-på dag. Träffen lämpar sig fint b
 åde för valpar (måste ha fått sin 12-veckors vaccinering) och vuxna hu
 ndar som fortfarande är nyfikna och gottesugna!\n\nVi kommer att hålla t
 ill på Brukshundsklubben i Hanaskog\, 15 km norr om Kristianstad. Här ha
 r vi tillgång till en fin gräsplan med Agilitybana samt en välutrustad 
 klubbstuga.\n\nTräffen startar klockan 11.00 med presentation av alla del
 tagare. Sedan kan man gå till olika stationer där vi erbjuder demonstrat
 ioner och prova-på: Agility\, Lydnad\, Rallylydnad\, Nosework\, Viltspår
 \, Handling (Hur man visar en hund på utställning) och Pälsvård.\n\nVi
 d 13-tiden serveras grillad korv och kall dryck samt kaffe och kaka. Däre
 fter fortsätter vi med de olika aktiviter fram till klockan 15.00.\n\nDel
 tagaravgift 200:- per hund (oberoende av hur stor familj som följer med)\
 n\nSWISH 123 176 35 98 SWTK syd märk Swishen med PP\n\nAnsvarig kontaktpe
 rson: Hilde Nybom (Hilde.nybom@slu.se)\n\nAnmälan senast: 12/7 till:\n\n
 [contact-form to="hilde.nybom@slu.se" subject="Anmälan prova-på-dag"][co
 ntact-field label="Namn" type="name" required="1"][contact-field label="E-
 post" type="email" required="1"][contact-field label="Meddelande" type="te
 xtarea"][/contact-form]
ATTACH;FMTTYPE=image/jpeg:https://swtk.se/wp-content/uploads/2026/03/prova
 -pa-dag-1.jpg
CATEGORIES:Region Syd
END:VEVENT
BEGIN:VTIMEZONE
TZID:Europe/Stockholm
X-LIC-LOCATION:Europe/Stockholm
BEGIN:DAYLIGHT
DTSTART:20260329T030000
TZOFFSETFROM:+0100
TZOFFSETTO:+0200
TZNAME:CEST
END:DAYLIGHT
END:VTIMEZONE
END:VCALENDAR