BEGIN:VCALENDAR
VERSION:2.0
PRODID:-//wp-events-plugin.com//7.2.3.1//EN
BEGIN:VEVENT
UID:52@swtk.se
DTSTART;TZID=Europe/Stockholm:20260712T090000
DTEND;TZID=Europe/Stockholm:20260712T170000
DTSTAMP:20260330T131159Z
URL:https://swtk.se/events/norrlands-guld-skagget-i-brevladan-pitea/
SUMMARY:Norrlands guld +Skägget i brevlådan\, Piteå
DESCRIPTION:Norrlands guld\, inofficiell utställning som genomförs i samb
 and med Södra Norrbottens kennelklubbs utställning i Piteå 11-12 juli.\
 n\nVi bjuder även in  till en inofficiell Nosework tävling\, "Skägget 
 i brevlådan" i samband med Norrlands guld\n\nLördag: Officiell utställn
 ing SNKK\nSöndag: Norrlands guld + Skägget i brevlådan\n\n&nbsp\;
ATTACH;FMTTYPE=image/jpeg:https://swtk.se/wp-content/uploads/2023/03/nord.
 png
CATEGORIES:Region Nord
END:VEVENT
BEGIN:VTIMEZONE
TZID:Europe/Stockholm
X-LIC-LOCATION:Europe/Stockholm
BEGIN:DAYLIGHT
DTSTART:20260329T030000
TZOFFSETFROM:+0100
TZOFFSETTO:+0200
TZNAME:CEST
END:DAYLIGHT
END:VTIMEZONE
END:VCALENDAR