BEGIN:VCALENDAR
VERSION:2.0
PRODID:-//wp-events-plugin.com//7.2.3.1//EN
BEGIN:VEVENT
UID:31@swtk.se
DTSTART;TZID=Europe/Stockholm:20260221T090000
DTEND;TZID=Europe/Stockholm:20260222T160000
DTSTAMP:20260125T175413Z
URL:https://swtk.se/events/hundarna-pa-fortet-malmo/
SUMMARY:Hundarna på Fortet\, Malmö
DESCRIPTION:Inomhussök på Hundarna på Fortet under ledning av Celine Fag
 erberg.\n\nCelines Hundaktivering\nFlintyxegatan 9\n213 76 Malmö\n\nHär 
 finns ett antal små rum med olika problemlösningar såsom underlag\, omv
 ägsproblem och mörker. Hunden ska hitta figuranten för att få sin bel
 öning. Hunden måste jobba aktivt för att hitta lösningen\, föraren ä
 r passiv och hjälper bara till när hunden behöver stöd för att lyckas
 . En hund i taget jobbar\, alla andra hundar måste vara i bilarna. När d
 in hund vilar mellan söken\, är du själv figurant eller publik. Denna a
 ktivitet tar ca 2 timmar. Ta gärna med inneskor eftersom ytterskorna läm
 nas vid entrén.\n\nFörmiddag grupp 1: 09.00 – 12.00 – 6 ekipage.\n\n
 Gemensam fika: 12.00 – 13.00 medtag fikabröd Celine bjuder på kaffe.\n
 \nEftermiddag grupp 2: 13.00 – 16.00 – 6 ekipage.\n\nAnmälan: Senast 
 16/2\n\nMeddela vid anmälan förarens namn\, hundens namn\, om du önskar
  deltaga den 21/2 eller 22/2 samt om du vill gå förmiddag eller eftermid
 dag.\n\nBetalning senast 16/2 429:- med SWISH till SWTK syd 123 176 35 98\
 n\n[contact-form to="karin.ganslandt@gmail.com" subject="Anmälan Fångarn
 a på fortet"][contact-field label="Namn" type="name" required="1"][contac
 t-field label="E-post" type="email" required="1"][contact-field label="Med
 delande" type="textarea"][/contact-form]
ATTACH;FMTTYPE=image/jpeg:https://swtk.se/wp-content/uploads/2023/03/syd.p
 ng
CATEGORIES:Region Syd
END:VEVENT
BEGIN:VTIMEZONE
TZID:Europe/Stockholm
X-LIC-LOCATION:Europe/Stockholm
BEGIN:STANDARD
DTSTART:20251026T020000
TZOFFSETFROM:+0200
TZOFFSETTO:+0100
TZNAME:CET
END:STANDARD
END:VTIMEZONE
END:VCALENDAR