BEGIN:VCALENDAR
VERSION:2.0
PRODID:-//wp-events-plugin.com//7.2.3.1//EN
BEGIN:VEVENT
UID:51@swtk.se
DTSTART;TZID=Europe/Stockholm:20260601T000000
DTEND;TZID=Europe/Stockholm:20260630T000000
DTSTAMP:20260330T130313Z
URL:https://swtk.se/events/himmelsby-parkour-mantorp/
SUMMARY:Himmelsby Parkour\, Mantorp
DESCRIPTION:Vi bjuder medlemmar på en heldag med miljöträning och roligh
 eter på Himmelsby Parkours aktivitetsbanor.\n\nÅterkommer med mer specif
 ikt datum och information!
ATTACH;FMTTYPE=image/jpeg:https://swtk.se/wp-content/uploads/2026/03/parko
 ur-scaled.jpg
CATEGORIES:Region Öst
END:VEVENT
BEGIN:VTIMEZONE
TZID:Europe/Stockholm
X-LIC-LOCATION:Europe/Stockholm
BEGIN:DAYLIGHT
DTSTART:20260329T030000
TZOFFSETFROM:+0100
TZOFFSETTO:+0200
TZNAME:CEST
END:DAYLIGHT
END:VTIMEZONE
END:VCALENDAR