BEGIN:VCALENDAR
VERSION:2.0
PRODID:-//wp-events-plugin.com//7.2.3.1//EN
BEGIN:VEVENT
UID:42@swtk.se
DTSTART;TZID=Europe/Stockholm:20260703T103000
DTEND;TZID=Europe/Stockholm:20260703T123000
DTSTAMP:20260317T180509Z
URL:https://swtk.se/events/byapromenad-i-kivik/
SUMMARY:Byapromenad i Kivik
DESCRIPTION:Boel och Knutte Rosenlund välkomnar er alla till en byapromena
 d i Kivik med omnejd fredagen den 3/7.\n\nSamling klockan 10.30 på Parker
 ingen vid Hamnkrogen/Buhres Fisk.\n\nVi går längs hamnen tar en lummig v
 äg förbi Solevis idrottsplats\, kikar in på Kungagraven vid Café Sågm
 öllan och går sedan tillbaka till vår samlingsplats via en av de pittor
 eska småvägarna i byn.\n\nMan kan välja att äta något efter promenade
 n på Hamnkrogen\, Buhres eller varför inte egen matsäck.\n\nDet finns b
 änkar men egna campingstolar rekommenderas!\n\nKivik är populärt på so
 mmaren så med tanke på Parkering kan det vara bra att samåka i de fall 
 det är möjligt.\n\nAnmälan senast 30/6 till Boel på tel/sms: 070 438 6
 2 61\n\nVälkomna!
ATTACH;FMTTYPE=image/jpeg:https://swtk.se/wp-content/uploads/2026/03/IMG_2
 0240609_172500_033.jpg
CATEGORIES:Region Syd
END:VEVENT
BEGIN:VTIMEZONE
TZID:Europe/Stockholm
X-LIC-LOCATION:Europe/Stockholm
BEGIN:DAYLIGHT
DTSTART:20260329T030000
TZOFFSETFROM:+0100
TZOFFSETTO:+0200
TZNAME:CEST
END:DAYLIGHT
END:VTIMEZONE
END:VCALENDAR